BEGIN:VCALENDAR
VERSION:2.0
PRODID:-//Cass County Dem-NPL - ECPv6.15.17.1//NONSGML v1.0//EN
CALSCALE:GREGORIAN
METHOD:PUBLISH
X-WR-CALNAME:Cass County Dem-NPL
X-ORIGINAL-URL:https://ccdemnpl.com
X-WR-CALDESC:Events for Cass County Dem-NPL
REFRESH-INTERVAL;VALUE=DURATION:PT1H
X-Robots-Tag:noindex
X-PUBLISHED-TTL:PT1H
BEGIN:VTIMEZONE
TZID:America/Chicago
BEGIN:DAYLIGHT
TZOFFSETFROM:-0600
TZOFFSETTO:-0500
TZNAME:CDT
DTSTART:20190310T080000
END:DAYLIGHT
BEGIN:STANDARD
TZOFFSETFROM:-0500
TZOFFSETTO:-0600
TZNAME:CST
DTSTART:20191103T070000
END:STANDARD
BEGIN:DAYLIGHT
TZOFFSETFROM:-0600
TZOFFSETTO:-0500
TZNAME:CDT
DTSTART:20200308T080000
END:DAYLIGHT
BEGIN:STANDARD
TZOFFSETFROM:-0500
TZOFFSETTO:-0600
TZNAME:CST
DTSTART:20201101T070000
END:STANDARD
BEGIN:DAYLIGHT
TZOFFSETFROM:-0600
TZOFFSETTO:-0500
TZNAME:CDT
DTSTART:20210314T080000
END:DAYLIGHT
BEGIN:STANDARD
TZOFFSETFROM:-0500
TZOFFSETTO:-0600
TZNAME:CST
DTSTART:20211107T070000
END:STANDARD
END:VTIMEZONE
BEGIN:VEVENT
DTSTART;TZID=America/Chicago:20200816T140000
DTEND;TZID=America/Chicago:20200816T150000
DTSTAMP:20260419T082733
CREATED:20200812T160911Z
LAST-MODIFIED:20200812T161050Z
UID:10000571-1597586400-1597590000@ccdemnpl.com
SUMMARY:District 22 Ice Cream Social-Horace
DESCRIPTION:Come to the Horace Senior Center to help raise money for District 22.  We will be selling ice cream treats and freeze pops at $5 dollars for a person and $10 dollars for families.\nMeet the candidates. We will have yard signs available for pick up and we will be selling memberships to the 22 club.
URL:https://ccdemnpl.com/event/district-22-ice-cream-social/
LOCATION:Horace Senior Center\, 214 Thue Ct.\, Horace\, ND\, 58047\, United States
END:VEVENT
END:VCALENDAR